BEGIN:VCALENDAR
VERSION:2.0
PRODID:-//https://richemont-club.com///NONSGML kigkonsult.se iCalcreator 2.10.15//
METHOD:PUBLISH
BEGIN:VEVENT
UID:20260423T175905UTC-8109pFDLoP@https://richemont-club.com/
DTSTAMP:20260423T175905Z
DESCRIPTION: https://richemont-club.com/de-ch/ch-events/ereignis/22-studien
 reise-athen
DTSTART:20260504T100000Z
DTEND:20260506T100000Z
LOCATION:Richemont Fachschule (Seeburgstrasse 51)
SUMMARY:Studienreise Athen
URL:https://richemont-club.com/de-ch/ch-events/ereignis/22-studienreise-ath
 en
END:VEVENT
END:VCALENDAR
