BEGIN:VCALENDAR
VERSION:2.0
PRODID:-//https://richemont-club.com///NONSGML kigkonsult.se iCalcreator 2.10.15//
METHOD:PUBLISH
BEGIN:VEVENT
UID:20260423T181828UTC-3685vSrvl9@https://richemont-club.com/
DTSTAMP:20260423T181828Z
DESCRIPTION: https://richemont-club.com/de-ch/ch-events/ereignis/28-irc-mee
 ting-italy-2026
DTSTART;VALUE=DATE:20260918
LOCATION:see attachment ()
SUMMARY:IRC Meeting Italy 2026
URL:https://richemont-club.com/de-ch/ch-events/ereignis/28-irc-meeting-ital
 y-2026
END:VEVENT
END:VCALENDAR
